BEGIN:VCALENDAR
VERSION:2.0
PRODID:-//Hippocrates Health Centre of Australia - ECPv6.15.20//NONSGML v1.0//EN
CALSCALE:GREGORIAN
METHOD:PUBLISH
X-WR-CALNAME:Hippocrates Health Centre of Australia
X-ORIGINAL-URL:https://hippocrates.com.au
X-WR-CALDESC:Events for Hippocrates Health Centre of Australia
REFRESH-INTERVAL;VALUE=DURATION:PT1H
X-Robots-Tag:noindex
X-PUBLISHED-TTL:PT1H
BEGIN:VTIMEZONE
TZID:Australia/Melbourne
BEGIN:STANDARD
TZOFFSETFROM:+1100
TZOFFSETTO:+1000
TZNAME:AEST
DTSTART:20250405T160000
END:STANDARD
BEGIN:DAYLIGHT
TZOFFSETFROM:+1000
TZOFFSETTO:+1100
TZNAME:AEDT
DTSTART:20251004T160000
END:DAYLIGHT
BEGIN:STANDARD
TZOFFSETFROM:+1100
TZOFFSETTO:+1000
TZNAME:AEST
DTSTART:20260404T160000
END:STANDARD
BEGIN:DAYLIGHT
TZOFFSETFROM:+1000
TZOFFSETTO:+1100
TZNAME:AEDT
DTSTART:20261003T160000
END:DAYLIGHT
BEGIN:STANDARD
TZOFFSETFROM:+1100
TZOFFSETTO:+1000
TZNAME:AEST
DTSTART:20270403T160000
END:STANDARD
BEGIN:DAYLIGHT
TZOFFSETFROM:+1000
TZOFFSETTO:+1100
TZNAME:AEDT
DTSTART:20271002T160000
END:DAYLIGHT
END:VTIMEZONE
BEGIN:VEVENT
DTSTART;TZID=Australia/Melbourne:20260516T100000
DTEND;TZID=Australia/Melbourne:20260516T140000
DTSTAMP:20260422T021858
CREATED:20260120T235212Z
LAST-MODIFIED:20260315T094311Z
UID:10001744-1778925600-1778940000@hippocrates.com.au
SUMMARY:Your Journey to Inner Peace Begins Here - 2 Day - Vedic Meditation Course
DESCRIPTION:For More Information and Registration\n2 Day Course 10am – 2 pm – 16th and 17th May\, 2026\nSpecial Introductory Price $240 \nFIND YOUR INNER PEACE WITH ZILLA \nVedic Meditation (VM) originates from the ancient Indian Vedas\, passed down from teacher to student to maintain the integrity of this powerful technique. It has been scientifically proven and tested through millennia to be one of the most efficient methods to reduce stress\, achieve a calm centred mind\, create clarity\, build resilience and improve health on multiple levels. \nThe course is run over four hours on both Saturday and Sunday.  \nThere are four sessions: \n\nIntroduction and brief history of VM. How and why it is different from other meditation techniques. Receive your personal mantra and learn how to meditate and harness this amazing technique. Group meditation.\nIn Session two – we delve into the science and proven benefits. We also best practice guidelines and how they help you achieve maximum benefits from your practice. Mantra check and refinement of the meditation practice.\nSession three – we discover how stress gets stored in the body and why this happens. We also explore the mind and body connection and why Vedic Meditation is so powerful in releasing stored stress. Further refinement of the meditation practice.\nSession four – is all about integration of the technique into daily life and practical guidance for ongoing and increasing benefits. We explore life as a long term meditator including ancient Vedic wisdoms\, the seven states of consciousness and epochs of time. Group meditation.\n\nAfter the course and following the recommended guidelines\, you will be able to meditate confidently\, feel the benefits immediately and participate in weekly online group meditations and support. \nWhat you will receive: \n\nThe full life changing technique\nOngoing support and membership to weekly group meditations\nLimited spaces allowing for a fun & personal learning environment\nLifetime discount on my future events\nComplimentary refresher course\nGift Bag\nLight refreshments (herbal teas and snacks)\nEnhanced clarity & creativity\nImproved general health & wellbeing\n\nFor more information and registration:  \nClick Here\n  \nMeet your teacher – Zilla \nZilla is a Vedic Meditation (VM) teacher\, author\, coach\, advanced hypnosis practitioner and speaker. She is dedicated to guiding people reconnect with their inner/higher self and raise their emotional frequency. Whether it’s through meditation\, her coaching\, hypnosis or books\, her passion to guide as many people as possible back to their true self is unwavering. \nMeditation has been part of Zilla’s life since high school\, and when Vedic Meditation found her over 10 years ago\, it transformed her in ways she never expected. It even saved her life. \nOver the last 30 years she has witnessed how many people have become disconnected in our fast-paced world\, inspired Zilla to become a certified VM teacher in 2024. She is also a Certified Results Coach and her book The Scars We Carry is a #1 Amazon Best Seller. \nWhen we reconnect with ourselves\, we naturally uplift those around us. If you feel the pull\, you are invited you to join in\, rediscover your inner peace\, and share your radiant self with your family\, ripple across your community\, and ultimately the world. \nContact: hello@zillacarina.com \nFB/IG: Zilla Carina \nZilla ✨\nAuthor | Vedic Meditation Teacher | Coach | Speaker \nBSB: 032563 \nAccount: 568800 \nRef: Your name \n \nABN 24667431013 \nW: www.zillacarina.com \nE: hello@zillacarina.com
URL:https://hippocrates.com.au/event/your-journey-to-inner-peace-begins-here-2-day-vedic-meditation-course/2026-05-16/
LOCATION:Hippocrates Health Centre – Nature Refuge\, 6 Julie Way\, Mudgeeraba\, Queensland\, 4213\, Australia
ATTACH;FMTTYPE=image/png:https://hippocrates.com.au/wp-content/uploads/Screenshot-2026-01-21-at-12.22.18-am-e1768951387569.png
ORGANIZER;CN="Zilla":MAILTO:hello@zillacarina.com
END:VEVENT
END:VCALENDAR