BEGIN:VCALENDAR
VERSION:2.0
PRODID:-//Hippocrates Health Centre of Australia - ECPv6.15.20//NONSGML v1.0//EN
CALSCALE:GREGORIAN
METHOD:PUBLISH
X-WR-CALNAME:Hippocrates Health Centre of Australia
X-ORIGINAL-URL:https://hippocrates.com.au
X-WR-CALDESC:Events for Hippocrates Health Centre of Australia
REFRESH-INTERVAL;VALUE=DURATION:PT1H
X-Robots-Tag:noindex
X-PUBLISHED-TTL:PT1H
BEGIN:VTIMEZONE
TZID:Australia/Melbourne
BEGIN:STANDARD
TZOFFSETFROM:+1100
TZOFFSETTO:+1000
TZNAME:AEST
DTSTART:20250405T160000
END:STANDARD
BEGIN:DAYLIGHT
TZOFFSETFROM:+1000
TZOFFSETTO:+1100
TZNAME:AEDT
DTSTART:20251004T160000
END:DAYLIGHT
BEGIN:STANDARD
TZOFFSETFROM:+1100
TZOFFSETTO:+1000
TZNAME:AEST
DTSTART:20260404T160000
END:STANDARD
BEGIN:DAYLIGHT
TZOFFSETFROM:+1000
TZOFFSETTO:+1100
TZNAME:AEDT
DTSTART:20261003T160000
END:DAYLIGHT
BEGIN:STANDARD
TZOFFSETFROM:+1100
TZOFFSETTO:+1000
TZNAME:AEST
DTSTART:20270403T160000
END:STANDARD
BEGIN:DAYLIGHT
TZOFFSETFROM:+1000
TZOFFSETTO:+1100
TZNAME:AEDT
DTSTART:20271002T160000
END:DAYLIGHT
END:VTIMEZONE
BEGIN:VEVENT
DTSTART;TZID=Australia/Melbourne:20260421T093000
DTEND;TZID=Australia/Melbourne:20260421T110000
DTSTAMP:20260421T074620
CREATED:20260226T032851Z
LAST-MODIFIED:20260314T100004Z
UID:10000083-1776763800-1776769200@hippocrates.com.au
SUMMARY:YOGA CLASS FOR EVERY BODY - 5 classes $30
DESCRIPTION:Discover the harmony between body and mind.\n\n\n\n\n\nAngy Keates is a dedicated yoga teacher with over 10 years of experience\, known for achieving profound personal health transformations and helping her students experience the same.\n\n\nAngy will be hosting weekly yoga classes at Hippocrates Health Centre in Mudgeeraba.\nClasses every Tuesday. 1.5 hours. 5 classes $30\nPhone Angy on 0450 666 982 to book.
URL:https://hippocrates.com.au/event/yoga-class-for-every-body-2-2-2/2026-04-21/
LOCATION:Hippocrates Health Centre – Nature Refuge\, 6 Julie Way\, Mudgeeraba\, Queensland\, 4213\, Australia
ATTACH;FMTTYPE=image/jpeg:https://hippocrates.com.au/wp-content/uploads/IMG_3226.jpg
END:VEVENT
BEGIN:VEVENT
DTSTART;TZID=Australia/Melbourne:20260421T183000
DTEND;TZID=Australia/Melbourne:20260421T200000
DTSTAMP:20260421T074620
CREATED:20260302T141602Z
LAST-MODIFIED:20260310T121702Z
UID:10001730-1776796200-1776801600@hippocrates.com.au
SUMMARY:Restore Your Nervous System
DESCRIPTION:Restoring Inner Peace through Sound & Vibration\nRestore your nervous system through guided meditation\, breathwork and a fusion of harmonic instruments. Mira from Harmoni Sound Healing is facilitating regular 90-minute Sound of Being™ sessions at Hippocrates Health Centre.  \nBook Now\nSessions will be held on the following dates from 6.30pm – 8pm:\nApril 21st\nMay 5th and 19th\nJune 2nd and 23rd
URL:https://hippocrates.com.au/event/restore-your-nervous-system-restoring-inner-peace-through-sound-vibration/2026-04-21/
LOCATION:Hippocrates Health Centre – Nature Refuge\, 6 Julie Way\, Mudgeeraba\, Queensland\, 4213\, Australia
ATTACH;FMTTYPE=image/jpeg:https://hippocrates.com.au/wp-content/uploads/DSC9955-scaled-e1773144487754.jpg
ORGANIZER;CN="Harmoni Sound Healing and Mira Milich":MAILTO:harmonisoundhealing@gmail.com
END:VEVENT
END:VCALENDAR