BEGIN:VCALENDAR
VERSION:2.0
PRODID:-//Hippocrates Health Centre of Australia - ECPv6.15.20//NONSGML v1.0//EN
CALSCALE:GREGORIAN
METHOD:PUBLISH
X-ORIGINAL-URL:https://hippocrates.com.au
X-WR-CALDESC:Events for Hippocrates Health Centre of Australia
REFRESH-INTERVAL;VALUE=DURATION:PT1H
X-Robots-Tag:noindex
X-PUBLISHED-TTL:PT1H
BEGIN:VTIMEZONE
TZID:Australia/Melbourne
BEGIN:STANDARD
TZOFFSETFROM:+1100
TZOFFSETTO:+1000
TZNAME:AEST
DTSTART:20250405T160000
END:STANDARD
BEGIN:DAYLIGHT
TZOFFSETFROM:+1000
TZOFFSETTO:+1100
TZNAME:AEDT
DTSTART:20251004T160000
END:DAYLIGHT
BEGIN:STANDARD
TZOFFSETFROM:+1100
TZOFFSETTO:+1000
TZNAME:AEST
DTSTART:20260404T160000
END:STANDARD
BEGIN:DAYLIGHT
TZOFFSETFROM:+1000
TZOFFSETTO:+1100
TZNAME:AEDT
DTSTART:20261003T160000
END:DAYLIGHT
BEGIN:STANDARD
TZOFFSETFROM:+1100
TZOFFSETTO:+1000
TZNAME:AEST
DTSTART:20270403T160000
END:STANDARD
BEGIN:DAYLIGHT
TZOFFSETFROM:+1000
TZOFFSETTO:+1100
TZNAME:AEDT
DTSTART:20271002T160000
END:DAYLIGHT
END:VTIMEZONE
BEGIN:VEVENT
DTSTART;TZID=Australia/Melbourne:20260401T080000
DTEND;TZID=Australia/Melbourne:20260401T120000
DTSTAMP:20260424T232101
CREATED:20260114T230745Z
LAST-MODIFIED:20260321T044429Z
UID:10001766-1775030400-1775044800@hippocrates.com.au
SUMMARY:2026 Hippocrates Garden Gathering  - Every Wednesday
DESCRIPTION:Hippocrates Garden Gathering \nCome and join us at our weekly garden gathering every Wednesday from 8am to 12pm.  \nThe garden is making great progress but it can always do with an extra pair of hands. Are you free to spend some time to help out? \nCome share in the abundance only nature can provide.  \n\nBring gloves if you have them\, gardening knowledge\, building skills\, some muscle or just your love of nature\, all are welcome. \nWe plant\, we grow\, we share. \nConnect with others who are passionate about making a difference. \nReconnect with nature on this beautiful and unique nature refuge located at 6 Julie Way\, Mudgeeraba.\n\n\n\nPlease join Hippocrates Wellness Events and Retreats Facebook page and send a DM (direct message) with your name and mobile number to register your interest. \nLooking forward to seeing you there… \nIf you don’t use Facebook… \nEmail: julz9@icloud.com or \nText message only: 0494 553 429 \n 
URL:https://hippocrates.com.au/event/2026-hippocrates-garden-party-every-wednesday/2026-04-01/
LOCATION:Hippocrates Health Centre – Nature Refuge\, 6 Julie Way\, Mudgeeraba\, Queensland\, 4213\, Australia
ATTACH;FMTTYPE=image/png:https://hippocrates.com.au/wp-content/uploads/Screenshot-2026-01-15-at-9.06.33-am.png
ORGANIZER;CN="Julz":MAILTO:julz9@icloud.com
END:VEVENT
BEGIN:VEVENT
DTSTART;TZID=Australia/Melbourne:20260401T180000
DTEND;TZID=Australia/Melbourne:20260401T200000
DTSTAMP:20260424T232101
CREATED:20260123T035456Z
LAST-MODIFIED:20260123T035458Z
UID:10000340-1775066400-1775073600@hippocrates.com.au
SUMMARY:NEW HEALING THE HEALER SUPPORT GROUP (GOLD COAST)
DESCRIPTION:FREE REIKI HEALING EXCHANGE NOW OPEN TO HEALING PROFESSIONALS AND EVERYONE \nEVERY WEDNESDAY EVENING: 6 PM – 8 PM \nBRING YOUR OWN MASSAGE TABLE AND BLANKET\, OR SIMPLY SIT IN THE REIKI HEALING ENERGY \nALL ADULTS AND TEENAGERS (13+) ARE WELCOME NO CHILDREN\, PLEASE \nCOME JOIN US FREE OF CHARGE! \nHIPPOCRATES HEALTH CENTRE 6 JULIE WAY MUDGEERABA (5 KM FROM THE M1) \nQUERIES? ROBERT SCHOFIELD 0436 465 591
URL:https://hippocrates.com.au/event/new-healing-the-healer-support-group-gold-coast-2/2026-04-01/
LOCATION:Hippocrates Health Centre – Nature Refuge\, 6 Julie Way\, Mudgeeraba\, Queensland\, 4213\, Australia
ATTACH;FMTTYPE=image/png:https://hippocrates.com.au/wp-content/uploads/Screenshot-2025-07-18-at-12.42.29 pm.png
END:VEVENT
END:VCALENDAR