BEGIN:VCALENDAR
VERSION:2.0
PRODID:-//Hippocrates Health Centre of Australia - ECPv6.15.20//NONSGML v1.0//EN
CALSCALE:GREGORIAN
METHOD:PUBLISH
X-ORIGINAL-URL:https://hippocrates.com.au
X-WR-CALDESC:Events for Hippocrates Health Centre of Australia
REFRESH-INTERVAL;VALUE=DURATION:PT1H
X-Robots-Tag:noindex
X-PUBLISHED-TTL:PT1H
BEGIN:VTIMEZONE
TZID:Australia/Melbourne
BEGIN:STANDARD
TZOFFSETFROM:+1100
TZOFFSETTO:+1000
TZNAME:AEST
DTSTART:20250405T160000
END:STANDARD
BEGIN:DAYLIGHT
TZOFFSETFROM:+1000
TZOFFSETTO:+1100
TZNAME:AEDT
DTSTART:20251004T160000
END:DAYLIGHT
BEGIN:STANDARD
TZOFFSETFROM:+1100
TZOFFSETTO:+1000
TZNAME:AEST
DTSTART:20260404T160000
END:STANDARD
BEGIN:DAYLIGHT
TZOFFSETFROM:+1000
TZOFFSETTO:+1100
TZNAME:AEDT
DTSTART:20261003T160000
END:DAYLIGHT
BEGIN:STANDARD
TZOFFSETFROM:+1100
TZOFFSETTO:+1000
TZNAME:AEST
DTSTART:20270403T160000
END:STANDARD
BEGIN:DAYLIGHT
TZOFFSETFROM:+1000
TZOFFSETTO:+1100
TZNAME:AEDT
DTSTART:20271002T160000
END:DAYLIGHT
END:VTIMEZONE
BEGIN:VEVENT
DTSTART;TZID=Australia/Melbourne:20260329T140000
DTEND;TZID=Australia/Melbourne:20260329T170000
DTSTAMP:20260424T232039
CREATED:20260114T215845Z
LAST-MODIFIED:20260202T222228Z
UID:10000636-1774792800-1774803600@hippocrates.com.au
SUMMARY:Shamanic Journey Circle with Plant Allies
DESCRIPTION:Access Your Highest Guidance through medicine drum journeying\nBuy Tickets  \nRescheduled event\nLife has taking me into a change of timeline for our Shamanic Journey circle. I am flying out to France to be with mum as we grieve the departure of dad. \nSo our new date is Sunday 29/03 2-5pm\n \nI am automatically transferring all of you who have already booked but if you need a refund instead\, please text me on 0435529136 & we can organise a refund in a week or 2 when I am more integrated with this unfolding. \n\nWe trust you are embracing the new year’s energy with love\, flow & reverence…It feels to us that there are still a LOT of doors closing before we move into the new energy of the Horse\, lots of cycles still finishing their completion & this process can short circuit the nervous system & create discomfort if we resist! \nSo ensure to nurture with nature 😉 \nRest & plenty of “beingness” has GOT TO BE numero uno on the list!  \nLet go of the high expectations of NEW YEAR RESOLUTIONS BS \n& SIMPLIFY life as a whole… \nYOUR BODY will thank you! \nAbout the event\n\n\n\nEmbrace the transformative energy of 2026’s first eclipse portal with the Total Solar Eclipse in Aquarius on February 17th + the shift into Fire Horse energy with the Chinese New Year. \nThis cosmic event is not gentle\, it feels to me like a severing & ignition point… A collapse of our own personal false identities\, structures\, relationships\, systems that we have maintained by habit rather than truth. Sharpens your focus\, urging you to refine your life\, release what’s holding you back\, and step into your truest self. A shadow exposure from self to self without apologies\, not out of shame but to remove our own denials\, so our bodies can become truth tellers\, so our nervous system can speak louder then our belief system. \nAre you ready??? \nThis first Shamanic Journey Circle with our tribe feels like it’s going to be a dive into shadow realms and exploration with radical self honesty! \nWARNING: if love\, light\, butterflies and unicorn is what you seek\,DON’T BOOK. (practicing radical honesty here) \nWhat is Shamanic Journeying?  \nIt simply is a way of finding  \n\nanswers\ninformation\nhealing\nwisdom\nknowledge \nguidance \n\nTo help with one’s personal life.  \nI remember years ago when I descended into my first shamanic drum journey… I had been Meditating like clockwork\, an hour in the morning & an hour in the evening\, for 3 years. I certainly was finding a lot of peace & stillness but I was not receiving my guides & spirit’s whispers. My first Shamanic journey was EPIC\, I received so much wisdom from my inner plains\, it was gob smacking to me who had put in so much time & discipline into my practice! \nWhat happens when you journey to the beat of the medicine drum?  \nHeld in love by your faciltator you will simply go into a natural trance state\, your brain waves start to change & your ability to receive the higher dimensions increases. \nDuring the Journey you meet with spirits who may be regarded as ancestors\, elders\, gods\, goddesses\, deceased shamans\, spirit guides\, power animals and angels. These beings are seen as beings with great wisdom\, power and the ones who are willing to help with guiding the living. \nSo as we return from our journey through the spirit world\, we gather our stories\, our visions\, our knowings & start to understand the messages that we received. \nEach one of you who chooses to join our Shamanic Journeying Circle  will begin your journey with a theme\, you form your intention. I will guide us to journey collectively & individually throughout our 3 hours together. \nWe shall receive the support of Mama Cacao & an optional Grandfather Rapeh or Golden Teacher’s Tea\, Sacred Shamanic plant medicine to bring protection\, connection\, remove blockage & bring healing. \nOur Circle is kept to an intimate setting of 16 souls including your facilitator so we can provide full support in your journey. \nBuy Tickets
URL:https://hippocrates.com.au/event/shamanic-journey-circle-with-plant-allies/
LOCATION:Hippocrates Health Centre – Nature Refuge\, 6 Julie Way\, Mudgeeraba\, Queensland\, 4213\, Australia
ATTACH;FMTTYPE=image/png:https://hippocrates.com.au/wp-content/uploads/Copy-of-Sound-Healing-June-2-e1770070792808.png
END:VEVENT
END:VCALENDAR